Package: methylKit Version: 1.35.1 Command: F:\biocbuild\bbs-3.22-bioc\R\bin\R.exe CMD INSTALL methylKit StartedAt: 2025-08-14 16:21:32 -0400 (Thu, 14 Aug 2025) EndedAt: 2025-08-14 16:23:50 -0400 (Thu, 14 Aug 2025) EllapsedTime: 137.9 seconds RetCode: 0 Status: OK