Package: methylKit Version: 1.35.1 Command: F:\biocbuild\bbs-3.22-bioc\R\bin\R.exe CMD check --no-multiarch --install=check:methylKit.install-out.txt --library=F:\biocbuild\bbs-3.22-bioc\R\library --no-vignettes --timings methylKit_1.35.1.tar.gz StartedAt: 2025-08-15 05:02:49 -0400 (Fri, 15 Aug 2025) EndedAt: 2025-08-15 05:12:37 -0400 (Fri, 15 Aug 2025) EllapsedTime: 588.2 seconds RetCode: 0 Status: OK CheckDir: methylKit.Rcheck Warnings: 0