Package: methylKit Version: 1.35.1 Command: chmod a+r methylKit -R && F:\biocbuild\bbs-3.22-bioc\R\bin\R.exe CMD build --keep-empty-dirs --no-resave-data methylKit StartedAt: 2025-08-14 21:23:27 -0400 (Thu, 14 Aug 2025) EndedAt: 2025-08-14 21:25:44 -0400 (Thu, 14 Aug 2025) EllapsedTime: 137.2 seconds RetCode: 0 Status: OK PackageFile: methylKit_1.35.1.tar.gz PackageFileSize: 1.135 MiB