Package: methylKit Version: 1.35.1 Command: rm -rf methylKit.buildbin-libdir && mkdir methylKit.buildbin-libdir && F:\biocbuild\bbs-3.22-bioc\R\bin\R.exe CMD INSTALL --build --library=methylKit.buildbin-libdir methylKit_1.35.1.tar.gz StartedAt: 2025-08-15 10:40:57 -0400 (Fri, 15 Aug 2025) EndedAt: 2025-08-15 10:43:10 -0400 (Fri, 15 Aug 2025) EllapsedTime: 132.9 seconds RetCode: 0 Status: OK PackageFile: methylKit_1.35.1.zip PackageFileSize: 7.394 MiB