Package: methylKit Version: 1.35.1 Command: /home/biocbuild/bbs-3.22-bioc/R/bin/R CMD check --install=check:methylKit.install-out.txt --library=/home/biocbuild/bbs-3.22-bioc/R/site-library --timings methylKit_1.35.1.tar.gz StartedAt: 2025-10-20 01:48:42 -0400 (Mon, 20 Oct 2025) EndedAt: 2025-10-20 01:55:15 -0400 (Mon, 20 Oct 2025) EllapsedTime: 392.3 seconds RetCode: 0 Status: OK CheckDir: methylKit.Rcheck Warnings: 0