Package: methylKit Version: 1.35.1 Command: /Library/Frameworks/R.framework/Resources/bin/R CMD INSTALL methylKit StartedAt: 2025-10-19 15:16:23 -0400 (Sun, 19 Oct 2025) EndedAt: 2025-10-19 15:16:45 -0400 (Sun, 19 Oct 2025) EllapsedTime: 22.1 seconds RetCode: 0 Status: OK