Package: methylKit Version: 1.35.1 Command: /Library/Frameworks/R.framework/Resources/bin/R CMD check --install=check:methylKit.install-out.txt --library=/Library/Frameworks/R.framework/Resources/library --no-vignettes --timings methylKit_1.35.1.tar.gz StartedAt: 2025-10-19 20:35:45 -0400 (Sun, 19 Oct 2025) EndedAt: 2025-10-19 20:38:01 -0400 (Sun, 19 Oct 2025) EllapsedTime: 136.5 seconds RetCode: 0 Status: OK CheckDir: methylKit.Rcheck Warnings: 0