Package: methylKit Version: 1.35.1 Command: /Library/Frameworks/R.framework/Resources/bin/R CMD build --keep-empty-dirs --no-resave-data methylKit StartedAt: 2025-10-20 16:57:13 -0400 (Mon, 20 Oct 2025) EndedAt: 2025-10-20 16:57:53 -0400 (Mon, 20 Oct 2025) EllapsedTime: 40.4 seconds RetCode: 0 Status: OK PackageFile: methylKit_1.35.1.tar.gz PackageFileSize: 1.449 MiB