############################################################################## ############################################################################## ### ### Running command: ### ### /home/biocbuild/bbs-3.22-bioc/R/bin/R CMD build --keep-empty-dirs --no-resave-data --md5 methylCC ### ############################################################################## ############################################################################## * checking for file ‘methylCC/DESCRIPTION’ ... OK * preparing ‘methylCC’: * checking DESCRIPTION meta-information ... OK * installing the package to build vignettes ----------------------------------- * installing *source* package ‘methylCC’ ... ** this is package ‘methylCC’ version ‘1.24.0’ ** using staged installation ** R ** data ** inst ** byte-compile and prepare package for lazy loading Error: object ‘arrange’ is not exported by 'namespace:plyranges' Execution halted ERROR: lazy loading failed for package ‘methylCC’ * removing ‘/tmp/RtmpiUtgZE/Rinst54b23419a77ed/methylCC’ ----------------------------------- ERROR: package installation failed