Package: methylCC Version: 1.23.0 Command: /Library/Frameworks/R.framework/Resources/bin/R CMD check --install=check:methylCC.install-out.txt --library=/Library/Frameworks/R.framework/Resources/library --no-vignettes --timings methylCC_1.23.0.tar.gz StartedAt: 2025-10-01 22:29:57 -0400 (Wed, 01 Oct 2025) EndedAt: 2025-10-01 22:38:22 -0400 (Wed, 01 Oct 2025) EllapsedTime: 505.4 seconds RetCode: 0 Status: OK CheckDir: methylCC.Rcheck Warnings: 0