Package: methylCC Version: 1.23.0 Command: /Library/Frameworks/R.framework/Resources/bin/R CMD build --keep-empty-dirs --no-resave-data methylCC StartedAt: 2025-09-30 17:41:53 -0400 (Tue, 30 Sep 2025) EndedAt: 2025-09-30 17:46:12 -0400 (Tue, 30 Sep 2025) EllapsedTime: 259.5 seconds RetCode: 0 Status: OK PackageFile: methylCC_1.23.0.tar.gz PackageFileSize: 4.378 MiB