Package: methylCC Version: 1.23.0 Command: /Library/Frameworks/R.framework/Resources/bin/R CMD build --keep-empty-dirs --no-resave-data methylCC StartedAt: 2025-10-23 16:59:33 -0400 (Thu, 23 Oct 2025) EndedAt: 2025-10-23 17:01:08 -0400 (Thu, 23 Oct 2025) EllapsedTime: 95.0 seconds RetCode: 0 Status: OK PackageFile: methylCC_1.23.0.tar.gz PackageFileSize: 4.378 MiB