Package: methyLImp2 Version: 1.5.0 Command: /Library/Frameworks/R.framework/Resources/bin/R CMD check --install=check:methyLImp2.install-out.txt --library=/Library/Frameworks/R.framework/Resources/library --no-vignettes --timings methyLImp2_1.5.0.tar.gz StartedAt: 2025-10-27 22:52:41 -0400 (Mon, 27 Oct 2025) EndedAt: 2025-10-27 22:59:13 -0400 (Mon, 27 Oct 2025) EllapsedTime: 392.3 seconds RetCode: 0 Status: OK CheckDir: methyLImp2.Rcheck Warnings: 0