Package: methyLImp2 Version: 1.5.0 Command: /Library/Frameworks/R.framework/Resources/bin/R CMD check --install=check:methyLImp2.install-out.txt --library=/Library/Frameworks/R.framework/Resources/library --no-vignettes --timings methyLImp2_1.5.0.tar.gz StartedAt: 2025-10-28 20:37:34 -0400 (Tue, 28 Oct 2025) EndedAt: 2025-10-28 20:38:51 -0400 (Tue, 28 Oct 2025) EllapsedTime: 77.8 seconds RetCode: 0 Status: OK CheckDir: methyLImp2.Rcheck Warnings: 0