Package: methrix Version: 1.23.1 Command: /home/biocbuild/R/R/bin/R CMD INSTALL methrix StartedAt: 2025-10-23 20:55:40 -0000 (Thu, 23 Oct 2025) EndedAt: 2025-10-23 20:56:32 -0000 (Thu, 23 Oct 2025) EllapsedTime: 52.7 seconds RetCode: 0 Status: OK