Package: methrix Version: 1.23.1 Command: /home/biocbuild/R/R/bin/R CMD check --install=check:methrix.install-out.txt --library=/home/biocbuild/R/R/site-library --no-vignettes --timings methrix_1.23.1.tar.gz StartedAt: 2025-10-17 10:52:59 -0000 (Fri, 17 Oct 2025) EndedAt: 2025-10-17 10:53:03 -0000 (Fri, 17 Oct 2025) EllapsedTime: 4.0 seconds RetCode: 1 Status: ERROR CheckDir: methrix.Rcheck Warnings: NA