Package: methrix Version: 1.23.1 Command: /home/biocbuild/R/R/bin/R CMD build --keep-empty-dirs --no-resave-data methrix StartedAt: 2025-10-21 01:06:55 -0000 (Tue, 21 Oct 2025) EndedAt: 2025-10-21 01:11:05 -0000 (Tue, 21 Oct 2025) EllapsedTime: 250.1 seconds RetCode: 0 Status: OK PackageFile: methrix_1.23.1.tar.gz PackageFileSize: 3.904 MiB