Package: methrix Version: 1.24.0 Command: /Library/Frameworks/R.framework/Resources/bin/R CMD check --install=check:methrix.install-out.txt --library=/Library/Frameworks/R.framework/Resources/library --no-vignettes --timings methrix_1.24.0.tar.gz StartedAt: 2025-11-03 22:23:23 -0500 (Mon, 03 Nov 2025) EndedAt: 2025-11-03 22:29:20 -0500 (Mon, 03 Nov 2025) EllapsedTime: 356.7 seconds RetCode: 0 Status: OK CheckDir: methrix.Rcheck Warnings: 0