Package: methrix Version: 1.24.0 Command: /Library/Frameworks/R.framework/Resources/bin/R CMD check --install=check:methrix.install-out.txt --library=/Library/Frameworks/R.framework/Resources/library --no-vignettes --timings methrix_1.24.0.tar.gz StartedAt: 2025-11-06 20:38:53 -0500 (Thu, 06 Nov 2025) EndedAt: 2025-11-06 20:41:03 -0500 (Thu, 06 Nov 2025) EllapsedTime: 130.5 seconds RetCode: 0 Status: OK CheckDir: methrix.Rcheck Warnings: 0