Package: methodical Version: 1.6.0 Command: /Library/Frameworks/R.framework/Resources/bin/R CMD INSTALL methodical StartedAt: 2025-11-03 15:42:09 -0500 (Mon, 03 Nov 2025) EndedAt: 2025-11-03 15:43:07 -0500 (Mon, 03 Nov 2025) EllapsedTime: 57.6 seconds RetCode: 0 Status: OK