Package: methodical Version: 1.6.0 Command: /Library/Frameworks/R.framework/Resources/bin/R CMD check --install=check:methodical.install-out.txt --library=/Library/Frameworks/R.framework/Resources/library --no-vignettes --timings methodical_1.6.0.tar.gz StartedAt: 2025-11-03 22:22:55 -0500 (Mon, 03 Nov 2025) EndedAt: 2025-11-03 22:33:24 -0500 (Mon, 03 Nov 2025) EllapsedTime: 629.6 seconds RetCode: 0 Status: WARNINGS CheckDir: methodical.Rcheck Warnings: 2