Package: methodical Version: 1.6.0 Command: /Library/Frameworks/R.framework/Resources/bin/R CMD build --keep-empty-dirs --no-resave-data methodical StartedAt: 2025-11-03 17:40:51 -0500 (Mon, 03 Nov 2025) EndedAt: 2025-11-03 18:00:52 -0500 (Mon, 03 Nov 2025) EllapsedTime: 1200.6 seconds RetCode: 0 Status: OK PackageFile: methodical_1.6.0.tar.gz PackageFileSize: 5.018 MiB