Package: methodical Version: 1.6.0 Command: rm -rf methodical.buildbin-libdir && mkdir methodical.buildbin-libdir && /Users/biocbuild/BBS/utils/build-universal.sh methodical_1.6.0.tar.gz /Library/Frameworks/R.framework/Resources/bin/R methodical.buildbin-libdir StartedAt: 2025-11-04 01:49:01 -0500 (Tue, 04 Nov 2025) EndedAt: 2025-11-04 01:49:49 -0500 (Tue, 04 Nov 2025) EllapsedTime: 48.5 seconds RetCode: 0 Status: OK PackageFile: methodical_1.6.0.tgz PackageFileSize: 4.987 MiB