Package: methodical Version: 1.5.0 Command: /Library/Frameworks/R.framework/Resources/bin/R CMD check --install=check:methodical.install-out.txt --library=/Library/Frameworks/R.framework/Resources/library --no-vignettes --timings methodical_1.5.0.tar.gz StartedAt: 2025-10-03 20:17:57 -0400 (Fri, 03 Oct 2025) EndedAt: 2025-10-03 20:19:48 -0400 (Fri, 03 Oct 2025) EllapsedTime: 111.2 seconds RetCode: 1 Status: ERROR CheckDir: methodical.Rcheck Warnings: NA