Package: methodical Version: 1.5.0 Command: /Library/Frameworks/R.framework/Resources/bin/R CMD build --keep-empty-dirs --no-resave-data methodical StartedAt: 2025-10-02 16:55:26 -0400 (Thu, 02 Oct 2025) EndedAt: 2025-10-02 17:03:30 -0400 (Thu, 02 Oct 2025) EllapsedTime: 483.4 seconds RetCode: 0 Status: OK PackageFile: methodical_1.5.0.tar.gz PackageFileSize: 4.369 MiB