Package: methimpute Version: 1.31.0 Command: /home/biocbuild/R/R/bin/R CMD INSTALL methimpute StartedAt: 2025-10-16 21:27:59 -0000 (Thu, 16 Oct 2025) EndedAt: 2025-10-16 21:29:00 -0000 (Thu, 16 Oct 2025) EllapsedTime: 61.0 seconds RetCode: 0 Status: OK