Package: methimpute Version: 1.31.0 Command: /home/biocbuild/R/R/bin/R CMD build --keep-empty-dirs --no-resave-data methimpute StartedAt: 2025-10-17 02:31:08 -0000 (Fri, 17 Oct 2025) EndedAt: 2025-10-17 02:34:08 -0000 (Fri, 17 Oct 2025) EllapsedTime: 180.0 seconds RetCode: 0 Status: OK PackageFile: methimpute_1.31.0.tar.gz PackageFileSize: 1.26 MiB