Package: methimpute Version: 1.31.0 Command: rm -rf methimpute.buildbin-libdir && mkdir methimpute.buildbin-libdir && F:\biocbuild\bbs-3.22-bioc\R\bin\R.exe CMD INSTALL --build --library=methimpute.buildbin-libdir methimpute_1.31.0.tar.gz StartedAt: 2025-08-15 10:40:12 -0400 (Fri, 15 Aug 2025) EndedAt: 2025-08-15 10:41:07 -0400 (Fri, 15 Aug 2025) EllapsedTime: 54.8 seconds RetCode: 0 Status: OK PackageFile: methimpute_1.31.0.zip PackageFileSize: 1.94 MiB