Package: methimpute Version: 1.31.0 Command: /home/biocbuild/bbs-3.22-bioc/R/bin/R CMD INSTALL methimpute StartedAt: 2025-10-19 15:16:41 -0400 (Sun, 19 Oct 2025) EndedAt: 2025-10-19 15:17:23 -0400 (Sun, 19 Oct 2025) EllapsedTime: 42.2 seconds RetCode: 0 Status: OK