Package: methimpute Version: 1.31.0 Command: /home/biocbuild/bbs-3.22-bioc/R/bin/R CMD check --install=check:methimpute.install-out.txt --library=/home/biocbuild/bbs-3.22-bioc/R/site-library --timings methimpute_1.31.0.tar.gz StartedAt: 2025-10-20 01:43:55 -0400 (Mon, 20 Oct 2025) EndedAt: 2025-10-20 01:47:34 -0400 (Mon, 20 Oct 2025) EllapsedTime: 219.1 seconds RetCode: 0 Status: WARNINGS CheckDir: methimpute.Rcheck Warnings: 1