Package: methimpute Version: 1.31.0 Command: /home/biocbuild/bbs-3.22-bioc/R/bin/R CMD build --keep-empty-dirs --no-resave-data --md5 methimpute StartedAt: 2025-10-19 18:33:46 -0400 (Sun, 19 Oct 2025) EndedAt: 2025-10-19 18:35:49 -0400 (Sun, 19 Oct 2025) EllapsedTime: 123.1 seconds RetCode: 0 Status: OK PackageFile: methimpute_1.31.0.tar.gz PackageFileSize: 1.271 MiB