Package: methimpute Version: 1.31.0 Command: /Library/Frameworks/R.framework/Resources/bin/R CMD INSTALL methimpute StartedAt: 2025-10-19 15:19:11 -0400 (Sun, 19 Oct 2025) EndedAt: 2025-10-19 15:20:04 -0400 (Sun, 19 Oct 2025) EllapsedTime: 52.0 seconds RetCode: 0 Status: OK