Package: methimpute Version: 1.31.0 Command: /Library/Frameworks/R.framework/Resources/bin/R CMD check --install=check:methimpute.install-out.txt --library=/Library/Frameworks/R.framework/Resources/library --no-vignettes --timings methimpute_1.31.0.tar.gz StartedAt: 2025-10-19 23:39:56 -0400 (Sun, 19 Oct 2025) EndedAt: 2025-10-19 23:43:13 -0400 (Sun, 19 Oct 2025) EllapsedTime: 197.0 seconds RetCode: 0 Status: WARNINGS CheckDir: methimpute.Rcheck Warnings: 1