Package: methimpute Version: 1.31.0 Command: /Library/Frameworks/R.framework/Resources/bin/R CMD build --keep-empty-dirs --no-resave-data methimpute StartedAt: 2025-10-19 18:00:04 -0400 (Sun, 19 Oct 2025) EndedAt: 2025-10-19 18:03:06 -0400 (Sun, 19 Oct 2025) EllapsedTime: 181.7 seconds RetCode: 0 Status: OK PackageFile: methimpute_1.31.0.tar.gz PackageFileSize: 1.268 MiB