Package: methimpute Version: 1.31.0 Command: rm -rf methimpute.buildbin-libdir && mkdir methimpute.buildbin-libdir && /Users/biocbuild/BBS/utils/build-universal.sh methimpute_1.31.0.tar.gz /Library/Frameworks/R.framework/Resources/bin/R methimpute.buildbin-libdir StartedAt: 2025-10-20 03:18:07 -0400 (Mon, 20 Oct 2025) EndedAt: 2025-10-20 03:19:01 -0400 (Mon, 20 Oct 2025) EllapsedTime: 54.3 seconds RetCode: 0 Status: OK PackageFile: methimpute_1.31.0.tgz PackageFileSize: 1.524 MiB