Package: methimpute Version: 1.31.0 Command: rm -rf methimpute.buildbin-libdir && mkdir methimpute.buildbin-libdir && /Users/biocbuild/BBS/utils/build-universal.sh methimpute_1.31.0.tar.gz /Library/Frameworks/R.framework/Resources/bin/R methimpute.buildbin-libdir StartedAt: 2025-10-19 23:05:42 -0400 (Sun, 19 Oct 2025) EndedAt: 2025-10-19 23:05:58 -0400 (Sun, 19 Oct 2025) EllapsedTime: 15.3 seconds RetCode: 0 Status: OK PackageFile: methimpute_1.31.0.tgz PackageFileSize: 1.538 MiB