Package: methimpute Version: 1.31.0 Maintainer: Aaron Taudt MaintainerEmail: aaron.taudt at gmail.com git_url: https://git.bioconductor.org/packages/methimpute git_branch: devel git_last_commit: cdeb494 git_last_commit_date: 2025-04-15 11:14:59 -0400 (Tue, 15 Apr 2025)