Package: metapone Version: 1.16.0 Command: /home/biocbuild/R/R/bin/R CMD check --install=check:metapone.install-out.txt --library=/home/biocbuild/R/R/site-library --no-vignettes --timings metapone_1.16.0.tar.gz StartedAt: 2025-11-18 11:40:08 -0000 (Tue, 18 Nov 2025) EndedAt: 2025-11-18 11:44:19 -0000 (Tue, 18 Nov 2025) EllapsedTime: 251.2 seconds RetCode: 0 Status: OK CheckDir: metapone.Rcheck Warnings: 0