Package: metapone Version: 1.16.0 Command: /home/biocbuild/bbs-3.22-bioc/R/bin/R CMD INSTALL metapone StartedAt: 2025-11-17 17:05:48 -0500 (Mon, 17 Nov 2025) EndedAt: 2025-11-17 17:06:04 -0500 (Mon, 17 Nov 2025) EllapsedTime: 16.4 seconds RetCode: 0 Status: OK