Package: metapone Version: 1.15.0 Command: rm -rf metapone.buildbin-libdir && mkdir metapone.buildbin-libdir && /Users/biocbuild/BBS/utils/build-universal.sh metapone_1.15.0.tar.gz /Library/Frameworks/R.framework/Resources/bin/R metapone.buildbin-libdir StartedAt: 2025-10-17 03:59:16 -0400 (Fri, 17 Oct 2025) EndedAt: 2025-10-17 03:59:35 -0400 (Fri, 17 Oct 2025) EllapsedTime: 18.7 seconds RetCode: 0 Status: OK PackageFile: metapone_1.15.0.tgz PackageFileSize: 3.79 MiB