Package: metapone Version: 1.16.0 Command: /Library/Frameworks/R.framework/Resources/bin/R CMD build --keep-empty-dirs --no-resave-data metapone StartedAt: 2025-11-10 16:56:57 -0500 (Mon, 10 Nov 2025) EndedAt: 2025-11-10 17:02:05 -0500 (Mon, 10 Nov 2025) EllapsedTime: 308.5 seconds RetCode: 0 Status: OK PackageFile: metapone_1.16.0.tar.gz PackageFileSize: 3.748 MiB