Package: metapod Version: 1.17.0 Command: /home/biocbuild/R/R/bin/R CMD INSTALL metapod StartedAt: 2025-10-23 20:16:59 -0000 (Thu, 23 Oct 2025) EndedAt: 2025-10-23 20:17:34 -0000 (Thu, 23 Oct 2025) EllapsedTime: 34.9 seconds RetCode: 0 Status: OK