Package: metapod Version: 1.17.0 Command: /home/biocbuild/R/R/bin/R CMD build --keep-empty-dirs --no-resave-data metapod StartedAt: 2025-10-21 01:04:32 -0000 (Tue, 21 Oct 2025) EndedAt: 2025-10-21 01:05:10 -0000 (Tue, 21 Oct 2025) EllapsedTime: 38.0 seconds RetCode: 0 Status: OK PackageFile: metapod_1.17.0.tar.gz PackageFileSize: 390.9 KiB