Package: metapod Version: 1.17.0 Command: /Library/Frameworks/R.framework/Resources/bin/R CMD INSTALL metapod StartedAt: 2025-10-19 15:06:05 -0400 (Sun, 19 Oct 2025) EndedAt: 2025-10-19 15:06:25 -0400 (Sun, 19 Oct 2025) EllapsedTime: 19.7 seconds RetCode: 0 Status: OK