Package: metapod Version: 1.17.0 Command: /Library/Frameworks/R.framework/Resources/bin/R CMD check --install=check:metapod.install-out.txt --library=/Library/Frameworks/R.framework/Resources/library --no-vignettes --timings metapod_1.17.0.tar.gz StartedAt: 2025-10-21 23:06:13 -0400 (Tue, 21 Oct 2025) EndedAt: 2025-10-21 23:06:56 -0400 (Tue, 21 Oct 2025) EllapsedTime: 42.3 seconds RetCode: 0 Status: OK CheckDir: metapod.Rcheck Warnings: 0