Package: metapod Version: 1.17.0 Command: /Library/Frameworks/R.framework/Resources/bin/R CMD build --keep-empty-dirs --no-resave-data metapod StartedAt: 2025-10-19 17:59:40 -0400 (Sun, 19 Oct 2025) EndedAt: 2025-10-19 18:00:10 -0400 (Sun, 19 Oct 2025) EllapsedTime: 29.7 seconds RetCode: 0 Status: OK PackageFile: metapod_1.17.0.tar.gz PackageFileSize: 323.8 KiB