Package: metapod Version: 1.17.0 Command: rm -rf metapod.buildbin-libdir && mkdir metapod.buildbin-libdir && /Users/biocbuild/BBS/utils/build-universal.sh metapod_1.17.0.tar.gz /Library/Frameworks/R.framework/Resources/bin/R metapod.buildbin-libdir StartedAt: 2025-10-20 03:18:01 -0400 (Mon, 20 Oct 2025) EndedAt: 2025-10-20 03:18:30 -0400 (Mon, 20 Oct 2025) EllapsedTime: 29.0 seconds RetCode: 0 Status: OK PackageFile: metapod_1.17.0.tgz PackageFileSize: 491.9 KiB