Package: metapod Version: 1.17.0 Command: /Library/Frameworks/R.framework/Resources/bin/R CMD check --install=check:metapod.install-out.txt --library=/Library/Frameworks/R.framework/Resources/library --no-vignettes --timings metapod_1.17.0.tar.gz StartedAt: 2025-10-20 20:35:19 -0400 (Mon, 20 Oct 2025) EndedAt: 2025-10-20 20:35:35 -0400 (Mon, 20 Oct 2025) EllapsedTime: 16.1 seconds RetCode: 0 Status: OK CheckDir: metapod.Rcheck Warnings: 0