Package: metapod Version: 1.17.0 Command: rm -rf metapod.buildbin-libdir && mkdir metapod.buildbin-libdir && /Users/biocbuild/BBS/utils/build-universal.sh metapod_1.17.0.tar.gz /Library/Frameworks/R.framework/Resources/bin/R metapod.buildbin-libdir StartedAt: 2025-10-19 23:05:40 -0400 (Sun, 19 Oct 2025) EndedAt: 2025-10-19 23:05:49 -0400 (Sun, 19 Oct 2025) EllapsedTime: 8.2 seconds RetCode: 0 Status: OK PackageFile: metapod_1.17.0.tgz PackageFileSize: 492.4 KiB