Package: metahdep Version: 1.67.0 Command: /home/biocbuild/bbs-3.22-bioc/R/bin/R CMD INSTALL metahdep StartedAt: 2025-10-02 15:03:12 -0400 (Thu, 02 Oct 2025) EndedAt: 2025-10-02 15:03:16 -0400 (Thu, 02 Oct 2025) EllapsedTime: 3.7 seconds RetCode: 0 Status: OK